BEGIN:VCALENDAR
VERSION:2.0
PRODID:-//https://lakebernadettehoa.com.195-250-26-87.cpanel.site///NONSGML kigkonsult.se iCalcreator 2.10.15//
METHOD:PUBLISH
BEGIN:VEVENT
UID:20260422T075556UTC-0135ugxE9w@https://lakebernadettehoa.com.195-250-26-
 87.cpanel.site/
DTSTAMP:20260422T075556Z
DESCRIPTION:Except Holidays or Clubhouse Closures https://lakebernadettehoa
 .com.195-250-26-87.cpanel.site/community-events/event/15790-cards.html
DTSTART:20260610T130000Z
DTEND:20260610T140000Z
LOCATION:Lake Bernadette Community Clubhouse (5410 Golf Links Blvd\, Zephyr
 hills\, Florida\, 33541)
SUMMARY:Cards
URL:https://lakebernadettehoa.com.195-250-26-87.cpanel.site/community-event
 s/event/15790-cards.html
END:VEVENT
END:VCALENDAR
