BEGIN:VCALENDAR
VERSION:2.0
PRODID:-//https://lakebernadettehoa.com.195-250-26-87.cpanel.site///NONSGML kigkonsult.se iCalcreator 2.10.15//
METHOD:PUBLISH
BEGIN:VEVENT
UID:20260422T092818UTC-58966u5E3H@https://lakebernadettehoa.com.195-250-26-
 87.cpanel.site/
DTSTAMP:20260422T092818Z
DESCRIPTION:Except Holidays or Clubhouse Closures https://lakebernadettehoa
 .com.195-250-26-87.cpanel.site/community-events/event/15152-aqua-aerobics.
 html
DTSTART:20310611T110000Z
DTEND:20310611T120000Z
LOCATION:Lake Bernadette Community Clubhouse (5410 Golf Links Blvd\, Zephyr
 hills\, Florida\, 33541)
SUMMARY:Aqua Aerobics
URL:https://lakebernadettehoa.com.195-250-26-87.cpanel.site/community-event
 s/event/15152-aqua-aerobics.html
END:VEVENT
END:VCALENDAR
